BEGIN:VCALENDAR
VERSION:2.0
PRODID:-//Plone.org//NONSGML plone.app.event//EN
X-WR-TIMEZONE:Europe/Madrid
BEGIN:VEVENT
SUMMARY:prueba
DTSTART;TZID=Europe/Madrid:20141013T141000
DTEND;TZID=Europe/Madrid:20141013T141000
DTSTAMP:20260425T011939Z
UID:3a6891ab-b0f8-4401-a3b3-08a2d65b81a1@peter6.upc.edu:11901
CREATED:20141010T120800Z
LAST-MODIFIED:20141010T120800Z
URL:https://multycab.upc.edu/en/events/prueba
END:VEVENT
BEGIN:VTIMEZONE
TZID:Europe/Madrid
X-LIC-LOCATION:Europe/Madrid
BEGIN:DAYLIGHT
DTSTART:20140330T030000
TZNAME:CEST
TZOFFSETFROM:+0100
TZOFFSETTO:+0200
END:DAYLIGHT
END:VTIMEZONE
END:VCALENDAR
